BEGIN:VCALENDAR
VERSION:2.0
PRODID:-//Council Member Wendell Felder - ECPv6.15.14//NONSGML v1.0//EN
CALSCALE:GREGORIAN
METHOD:PUBLISH
X-WR-CALNAME:Council Member Wendell Felder
X-ORIGINAL-URL:https://wendellfelderdc.com
X-WR-CALDESC:Events for Council Member Wendell Felder
REFRESH-INTERVAL;VALUE=DURATION:PT1H
X-Robots-Tag:noindex
X-PUBLISHED-TTL:PT1H
BEGIN:VTIMEZONE
TZID:UTC
BEGIN:STANDARD
TZOFFSETFROM:+0000
TZOFFSETTO:+0000
TZNAME:UTC
DTSTART:20250101T000000
END:STANDARD
END:VTIMEZONE
BEGIN:VEVENT
DTSTART;TZID=UTC:20260627T100000
DTEND;TZID=UTC:20260627T140000
DTSTAMP:20260423T180118
CREATED:20260306T014241Z
LAST-MODIFIED:20260306T014241Z
UID:1685-1782554400-1782568800@wendellfelderdc.com
SUMMARY:MOCRs and DPW - Roll Off Day
DESCRIPTION:Bring bulk items for safe disposal!
URL:https://wendellfelderdc.com/events/mocrs-and-dpw-roll-off-day-2/
LOCATION:Joy Evans Therapeutic Recreation Center\, 3030 G St. SE\, Washington DC\, 20019
END:VEVENT
END:VCALENDAR