BEGIN:VCALENDAR
VERSION:2.0
PRODID:-//Council Member Wendell Felder - ECPv6.15.14//NONSGML v1.0//EN
CALSCALE:GREGORIAN
METHOD:PUBLISH
X-ORIGINAL-URL:https://wendellfelderdc.com
X-WR-CALDESC:Events for Council Member Wendell Felder
REFRESH-INTERVAL;VALUE=DURATION:PT1H
X-Robots-Tag:noindex
X-PUBLISHED-TTL:PT1H
BEGIN:VTIMEZONE
TZID:UTC
BEGIN:STANDARD
TZOFFSETFROM:+0000
TZOFFSETTO:+0000
TZNAME:UTC
DTSTART:20250101T000000
END:STANDARD
END:VTIMEZONE
BEGIN:VEVENT
DTSTART;TZID=UTC:20260509T113000
DTEND;TZID=UTC:20260509T143000
DTSTAMP:20260423T155713
CREATED:20260306T014527Z
LAST-MODIFIED:20260306T014527Z
UID:1686-1778326200-1778337000@wendellfelderdc.com
SUMMARY:Learn2Derm - Skin Health Fair
DESCRIPTION:
URL:https://wendellfelderdc.com/events/learn2derm-skin-health-fair/
LOCATION:Pennsylvania Avenue Baptist Church\, 3000 Pennsylvania Avenue SE\, Washington DC\, 20020
END:VEVENT
BEGIN:VEVENT
DTSTART;TZID=UTC:20260509T130000
DTEND;TZID=UTC:20260509T170000
DTSTAMP:20260423T155713
CREATED:20260317T162625Z
LAST-MODIFIED:20260317T162625Z
UID:1702-1778331600-1778346000@wendellfelderdc.com
SUMMARY:Nannie Helen Burroughs Parade
DESCRIPTION:
URL:https://wendellfelderdc.com/events/nannie-helen-burroughs-parade/
LOCATION:55th St. NE and 5400 Block of Nannie Helen Burroughs Ave to 50th St. NE and 5000 block of Nannie Helen Burroughs Ave NE
END:VEVENT
BEGIN:VEVENT
DTSTART;TZID=UTC:20260509T130000
DTEND;TZID=UTC:20260509T170000
DTSTAMP:20260423T155713
CREATED:20260323T122054Z
LAST-MODIFIED:20260323T122054Z
UID:1724-1778331600-1778346000@wendellfelderdc.com
SUMMARY:Nannie Helen Burroughs Parade and Community Day
DESCRIPTION:
URL:https://wendellfelderdc.com/events/nannie-helen-burroughs-parade-and-community-day/
END:VEVENT
END:VCALENDAR