BEGIN:VCALENDAR
VERSION:2.0
PRODID:-//Council Member Wendell Felder - ECPv6.15.14//NONSGML v1.0//EN
CALSCALE:GREGORIAN
METHOD:PUBLISH
X-ORIGINAL-URL:https://wendellfelderdc.com
X-WR-CALDESC:Events for Council Member Wendell Felder
REFRESH-INTERVAL;VALUE=DURATION:PT1H
X-Robots-Tag:noindex
X-PUBLISHED-TTL:PT1H
BEGIN:VTIMEZONE
TZID:UTC
BEGIN:STANDARD
TZOFFSETFROM:+0000
TZOFFSETTO:+0000
TZNAME:UTC
DTSTART:20250101T000000
END:STANDARD
END:VTIMEZONE
BEGIN:VEVENT
DTSTART;TZID=UTC:20260421T183000
DTEND;TZID=UTC:20260421T200000
DTSTAMP:20260423T141152
CREATED:20260402T123820Z
LAST-MODIFIED:20260402T123820Z
UID:1768-1776796200-1776801600@wendellfelderdc.com
SUMMARY:ANC 7F
DESCRIPTION:Hybrid Meeting \nJoin Here: https://dc-gov.zoom.us/j/89795660166 \nIn-person: Marshall Heights Community Development Organization
URL:https://wendellfelderdc.com/events/anc-7f-8/
LOCATION:Marshall Heights Community Development Organization\, 3939 Benning Rd. NE\, Washington DC\, 20019
END:VEVENT
BEGIN:VEVENT
DTSTART;TZID=UTC:20260421T183000
DTEND;TZID=UTC:20260421T200000
DTSTAMP:20260423T141152
CREATED:20260402T123933Z
LAST-MODIFIED:20260402T123933Z
UID:1769-1776796200-1776801600@wendellfelderdc.com
SUMMARY:Dupont Park Civic Association
DESCRIPTION:Join Here
URL:https://wendellfelderdc.com/events/dupont-park-civic-association/
LOCATION:Virtual
END:VEVENT
BEGIN:VEVENT
DTSTART;TZID=UTC:20260421T183000
DTEND;TZID=UTC:20260421T203000
DTSTAMP:20260423T141152
CREATED:20260402T123715Z
LAST-MODIFIED:20260402T123715Z
UID:1767-1776796200-1776803400@wendellfelderdc.com
SUMMARY:Eastland Gardens Civic Association
DESCRIPTION:Hybrid Meeting \nJoin Here: https://us02web.zoom.us/j/212372431?pwd=RUNsZFpxNTJJQ3Y1Vi8zQ1YxWTBGdz09 \nIn-Person: Kenilworth Rec Center
URL:https://wendellfelderdc.com/events/eastland-gardens-civic-association-9/
LOCATION:Kenilworth Recreation Center\, 4321 Ord St. NE\, Washington DC\, 20019
END:VEVENT
END:VCALENDAR