BEGIN:VCALENDAR
VERSION:2.0
PRODID:-//Council Member Wendell Felder - ECPv6.15.14//NONSGML v1.0//EN
CALSCALE:GREGORIAN
METHOD:PUBLISH
X-WR-CALNAME:Council Member Wendell Felder
X-ORIGINAL-URL:https://wendellfelderdc.com
X-WR-CALDESC:Events for Council Member Wendell Felder
REFRESH-INTERVAL;VALUE=DURATION:PT1H
X-Robots-Tag:noindex
X-PUBLISHED-TTL:PT1H
BEGIN:VTIMEZONE
TZID:UTC
BEGIN:STANDARD
TZOFFSETFROM:+0000
TZOFFSETTO:+0000
TZNAME:UTC
DTSTART:20250101T000000
END:STANDARD
END:VTIMEZONE
BEGIN:VEVENT
DTSTART;TZID=UTC:20260514T180000
DTEND;TZID=UTC:20260514T200000
DTSTAMP:20260423T201926
CREATED:20260423T183759Z
LAST-MODIFIED:20260423T183759Z
UID:1810-1778781600-1778788800@wendellfelderdc.com
SUMMARY:DPR - Ward 7 Construction Updates
DESCRIPTION:Register Here
URL:https://wendellfelderdc.com/events/dpr-ward-7-construction-updates/
LOCATION:Virtual
END:VEVENT
END:VCALENDAR